BEGIN:VCALENDAR
VERSION:2.0
PRODID:-//Ananda Meditation Retreat - ECPv6.15.12.2//NONSGML v1.0//EN
CALSCALE:GREGORIAN
METHOD:PUBLISH
X-WR-CALNAME:Ananda Meditation Retreat
X-ORIGINAL-URL:https://anandameditationretreat.in
X-WR-CALDESC:Events for Ananda Meditation Retreat
REFRESH-INTERVAL;VALUE=DURATION:PT1H
X-Robots-Tag:noindex
X-PUBLISHED-TTL:PT1H
BEGIN:VTIMEZONE
TZID:Asia/Kolkata
BEGIN:STANDARD
TZOFFSETFROM:+0530
TZOFFSETTO:+0530
TZNAME:IST
DTSTART:20250101T000000
END:STANDARD
END:VTIMEZONE
BEGIN:VEVENT
DTSTART;TZID=Asia/Kolkata:20260424T110000
DTEND;TZID=Asia/Kolkata:20260426T110000
DTSTAMP:20260425T191804
CREATED:20260330T153217Z
LAST-MODIFIED:20260330T153217Z
UID:7671-1777028400-1777201200@anandameditationretreat.in
SUMMARY:Balance Life Through Yoga Lifestyle
DESCRIPTION:Balance Life Through Yoga Lifestyle\n24th April – 11:00 am to 26th April – 11:00 am \nIn today’s fast-moving world\, imbalance rarely happens suddenly. It develops gradually through irregular sleep patterns\, long screen hours\, emotional pressure\, unhealthy food habits\, and constant mental activity. Over time\, the body begins to show signs such as fatigue\, restlessness\, poor digestion\, disturbed sleep\, and mental overload. What many people experience today is not simply physical exhaustion\, but a deeper lifestyle imbalance. \nMany people practice yoga for an hour each day\, yet spend the remaining hours in habits that disturb the natural rhythm of the body and mind. True yoga was never meant to remain only on the mat; it was designed as a way of living. \nAccording to classical yogic teachings such as the Hatha Yoga Pradipika\, balance arises through conscious routines\, moderate diet\, steady breath\, and harmony between effort and rest. The way we wake\, eat\, breathe\, move\, and rest directly influences the quality of our energy and clarity of mind. \nModern science now confirms what ancient yogis understood intuitively. When daily rhythms align with natural biological cycles\, the nervous system stabilizes\, digestion improves\, and mental clarity increases. When lifestyle becomes conscious\, vitality naturally returns. \nBalance Life Through Yoga Lifestyle is designed as a practical immersion to help participants reconnect with the natural intelligence of the body and mind. Through simple yet powerful yogic tools\, participants learn how to integrate yoga into everyday life so balance is experienced throughout the day\, not just during practice. \nDuring this immersion\, participants will explore the root causes of back discomfort and how posture habits\, stress\, and muscular imbalance affect spinal health. Gentle spinal mobility practices and Sukshma Vyayam will help release stiffness and restore natural movement in the body. \nBreath awareness plays a central role in this immersion.  Through pranayama and conscious breathing techniques\, participants will experience how the breath can calm the nervous system\, improve focus\, and cultivate greater awareness in daily life. \nThe program also introduces simple yogic purification practices such as Jal Neti\, supporting clearer breathing\, heightened sensory awareness\, and mental freshness. \nTo deepen inner stillness\, participants will explore nature-inspired meditation practices that cultivate patience\, resilience\, and a calm\, steady mind. \nCarefully guided asana sequencing will support spinal decompression\, alignment\, and structural balance. Each movement is practiced with awareness so the body gradually rebuilds strength while remaining relaxed and balanced. \nSessions conclude with deep guided relaxation\, allowing the body and nervous system to fully integrate the practices\, creating space for restoration and mental clarity. \nThis immersion is not about quick fixes or temporary motivation. It is about developing sustainable habits that support long-term wellbeing. \n By the end of the program\, participants will gain practical tools to create a balanced routine\, regulate stress through breath\, support digestion and sleep\, and cultivate a more centered and peaceful mind. \nLocation: Ananda Kriya Yogashram \nInvestment: ₹6000 \nGive your lifestyle conscious attention and allow yoga to become a living experience\, not just a practice…
URL:https://anandameditationretreat.in/event/yoga-retreat-26-04a/
ATTACH;FMTTYPE=image/webp:https://anandameditationretreat.in/wp-content/uploads/2026/03/yoga-retreat-april-featured.webp
END:VEVENT
END:VCALENDAR